BEGIN:VCALENDAR
VERSION:2.0
PRODID:-//TBGS - ECPv6.15.18//NONSGML v1.0//EN
CALSCALE:GREGORIAN
METHOD:PUBLISH
X-WR-CALNAME:TBGS
X-ORIGINAL-URL:https://tbgs.uk
X-WR-CALDESC:Events for TBGS
REFRESH-INTERVAL;VALUE=DURATION:PT1H
X-Robots-Tag:noindex
X-PUBLISHED-TTL:PT1H
BEGIN:VTIMEZONE
TZID:Europe/London
BEGIN:DAYLIGHT
TZOFFSETFROM:+0000
TZOFFSETTO:+0100
TZNAME:BST
DTSTART:20240331T010000
END:DAYLIGHT
BEGIN:STANDARD
TZOFFSETFROM:+0100
TZOFFSETTO:+0000
TZNAME:GMT
DTSTART:20241027T010000
END:STANDARD
BEGIN:DAYLIGHT
TZOFFSETFROM:+0000
TZOFFSETTO:+0100
TZNAME:BST
DTSTART:20250330T010000
END:DAYLIGHT
BEGIN:STANDARD
TZOFFSETFROM:+0100
TZOFFSETTO:+0000
TZNAME:GMT
DTSTART:20251026T010000
END:STANDARD
BEGIN:DAYLIGHT
TZOFFSETFROM:+0000
TZOFFSETTO:+0100
TZNAME:BST
DTSTART:20260329T010000
END:DAYLIGHT
BEGIN:STANDARD
TZOFFSETFROM:+0100
TZOFFSETTO:+0000
TZNAME:GMT
DTSTART:20261025T010000
END:STANDARD
END:VTIMEZONE
BEGIN:VEVENT
DTSTART;TZID=Europe/London:20250814T080000
DTEND;TZID=Europe/London:20250814T180000
DTSTAMP:20260421T162833
CREATED:20250520T110358Z
LAST-MODIFIED:20250623T231344Z
UID:4164-1755158400-1755194400@tbgs.uk
SUMMARY:Celtic Manor Roman Road
DESCRIPTION:You are not logged in to TBGS.  To see the content please login using your username and password.  If you are a member please click  here Login
URL:https://tbgs.uk/event/celtic-manor-roman-road/
LOCATION:Celtic Manor\, Coldra Wood\, Chepstow Road\,\, Newport\, NP18 1HQ\, United Kingdom
CATEGORIES:Society Events
END:VEVENT
END:VCALENDAR